BEGIN:VCALENDAR
VERSION:2.0
PRODID:-//www.spcamc.org//NONSGML kigkonsult.se iCalcreator 2.30.10//
CALSCALE:GREGORIAN
METHOD:PUBLISH
UID:fc8fc871-42c7-44b8-9917-b20483e47fef
X-WR-CALDESC:Sunday Socials are every Sunday by reservation only!\n\nSocial
 s are the safe alternative to dog parks and are best suited for dogs at le
 ast 9 months old.  Our socials are designed for friendly\, well-socialized
  dogs\, and are not intended for teaching your dog how to play with other 
 dogs or rehabilitating social skills.
X-WR-RELCALID:a522dfc44c9fff5156562cfa992a6c45
X-WR-TIMEZONE:America/Los_Angeles
BEGIN:VTIMEZONE
TZID:America/Los_Angeles
BEGIN:STANDARD
TZNAME:PST
DTSTART:20221106T020000
TZOFFSETFROM:-0700
TZOFFSETTO:-0800
RDATE:20231105T020000
RDATE:20241103T020000
END:STANDARD
BEGIN:DAYLIGHT
TZNAME:PDT
DTSTART:20230312T020000
TZOFFSETFROM:-0800
TZOFFSETTO:-0700
RDATE:20240310T020000
END:DAYLIGHT
END:VTIMEZONE
BEGIN:VEVENT
UID:d7983f58-e321-404a-8c4c-7a1cb9d1c38f
DTSTAMP:20260423T232839Z
DESCRIPTION:Sunday Socials are every Sunday by reservation only!\n\nSocials
  are the safe alternative to dog parks and are best suited for dogs at lea
 st 9 months old.  Our socials are designed for friendly\, well-socialized 
 dogs\, and are not intended for teaching your dog how to play with other d
 ogs or rehabilitating social skills.
DTSTART;TZID=America/Los_Angeles:20230625T101500
DTEND;TZID=America/Los_Angeles:20230625T111500
LOCATION:
SUMMARY:Sunday Socials - Large Dogs
END:VEVENT
END:VCALENDAR
