BEGIN:VCALENDAR
VERSION:2.0
PRODID:-//www.spcamc.org//NONSGML kigkonsult.se iCalcreator 2.30.10//
CALSCALE:GREGORIAN
METHOD:PUBLISH
UID:2a7c215e-5b21-4fff-9640-75ea5f3256b8
X-WR-CALDESC:WAGS on the Runway kicks off WeatherTech Raceway Laguna Seca’s
  racing season and the IMSA Monterey SportsCar Grand Prix weekend in style
  - blending fashion\, philanthropy\, and the spirit of a throwback race ce
 lebration.\n\nIn a commitment to the cause\, Casa Munras Garden Hotel &amp
 \; Spa will donate 20% of all ticket proceeds directly to SPCA Monterey Co
 unty\, ensuring that every guest's presence drives a meaningful impact for
  animal welfare.
X-WR-RELCALID:0fee520da03c3f2846363cf1000b22a5
X-WR-TIMEZONE:America/Los_Angeles
BEGIN:VTIMEZONE
TZID:America/Los_Angeles
BEGIN:STANDARD
TZNAME:PST
DTSTART:20251102T020000
TZOFFSETFROM:-0700
TZOFFSETTO:-0800
RDATE:20261101T020000
END:STANDARD
BEGIN:DAYLIGHT
TZNAME:PDT
DTSTART:20260308T020000
TZOFFSETFROM:-0800
TZOFFSETTO:-0700
RDATE:20270314T020000
END:DAYLIGHT
END:VTIMEZONE
BEGIN:VEVENT
UID:9dbf7c60-d3ec-4878-bd59-007083c532ff
DTSTAMP:20260423T090515Z
DESCRIPTION:WAGS on the Runway kicks off WeatherTech Raceway Laguna Seca’s 
 racing season and the IMSA Monterey SportsCar Grand Prix weekend in style 
 - blending fashion\, philanthropy\, and the spirit of a throwback race cel
 ebration.\n\nIn a commitment to the cause\, Casa Munras Garden Hotel &amp\
 ; Spa will donate 20% of all ticket proceeds directly to SPCA Monterey Cou
 nty\, ensuring that every guest's presence drives a meaningful impact for 
 animal welfare.
DTSTART;TZID=America/Los_Angeles:20260430T113000
DTEND;TZID=America/Los_Angeles:20260430T133000
LOCATION:700 Munras Ave\, Monterey\, CA 93940 US
SUMMARY:WAGS on the Runway
END:VEVENT
END:VCALENDAR
